BEGIN:VCALENDAR
VERSION:2.0
PRODID:-//Strat Labs - ECPv6.15.18//NONSGML v1.0//EN
CALSCALE:GREGORIAN
METHOD:PUBLISH
X-ORIGINAL-URL:https://stratlabs.us
X-WR-CALDESC:Events for Strat Labs
REFRESH-INTERVAL;VALUE=DURATION:PT1H
X-Robots-Tag:noindex
X-PUBLISHED-TTL:PT1H
BEGIN:VTIMEZONE
TZID:America/Denver
BEGIN:DAYLIGHT
TZOFFSETFROM:-0700
TZOFFSETTO:-0600
TZNAME:MDT
DTSTART:20230312T090000
END:DAYLIGHT
BEGIN:STANDARD
TZOFFSETFROM:-0600
TZOFFSETTO:-0700
TZNAME:MST
DTSTART:20231105T080000
END:STANDARD
BEGIN:DAYLIGHT
TZOFFSETFROM:-0700
TZOFFSETTO:-0600
TZNAME:MDT
DTSTART:20240310T090000
END:DAYLIGHT
BEGIN:STANDARD
TZOFFSETFROM:-0600
TZOFFSETTO:-0700
TZNAME:MST
DTSTART:20241103T080000
END:STANDARD
BEGIN:DAYLIGHT
TZOFFSETFROM:-0700
TZOFFSETTO:-0600
TZNAME:MDT
DTSTART:20250309T090000
END:DAYLIGHT
BEGIN:STANDARD
TZOFFSETFROM:-0600
TZOFFSETTO:-0700
TZNAME:MST
DTSTART:20251102T080000
END:STANDARD
END:VTIMEZONE
BEGIN:VEVENT
DTSTART;TZID=America/Denver:20240314T093000
DTEND;TZID=America/Denver:20240314T103000
DTSTAMP:20260420T153604
CREATED:20240209T054443Z
LAST-MODIFIED:20241212T201852Z
UID:10000012-1710408600-1710412200@stratlabs.us
SUMMARY:The Mastery of Social Responsibility
DESCRIPTION:The concept of Corporate Social Responsibility (CSR) has become increasingly important in today’s business environment as organizations seek to balance their pursuit of profits with the needs of their stakeholders. \nJoin us to learn best practices on building a new CSR program or enhancing an existing social impact initiative from leaders of companies spanning scope in size and scale. These experts will share how to tailor your CSR Roadmap\, discuss implementation strategies\, and provide tips on how to measure your CSR success! \nAttendees will learn how to: \n\nAttract and retain strong talent\nDifferentiate your company in the market\nGalvanize a team to support local and global communities\nExplore potential cost savings through partnerships\nIncrease consumer loyalty\n\nWe look forward to sharing the benefits of CSR and how social impact can directly impact your bottom line.
URL:https://stratlabs.us/event/the-mastery-of-social-responsibility/
LOCATION:Zoom Link\, Strat Labs\, 1627 S Emerson\, Denver\, Colorado\, 80210
ATTACH;FMTTYPE=image/png:https://stratlabs.us/wp-content/uploads/2024/02/The-Mastery-of-Social-Responsibility.png
END:VEVENT
BEGIN:VEVENT
DTSTART;TZID=America/Denver:20240320T093000
DTEND;TZID=America/Denver:20240320T103000
DTSTAMP:20260420T153604
CREATED:20240208T055136Z
LAST-MODIFIED:20241213T011337Z
UID:10000011-1710927000-1710930600@stratlabs.us
SUMMARY:Building your Donor Community
DESCRIPTION:As a nonprofit organization\, reaching new potential supporters is crucial for growth and sustainability. However\, identifying opportunities can be challenging\, often resulting in stagnant growth. How can you effectively bridge this gap and foster meaningful connections to expand your donor base? \nJoin us as we delve into the art and science of attracting and engaging new donors. We’ll equip you with actionable strategies and proven techniques to elevate your fundraising efforts and cultivate lasting relationships with donors. \nWe invite you to join us for this FREE Virtual Lab Session to learn about: \n\nReaching new supporters through social media marketing strategies\nUtilizing LinkedIn to identify target donors and sponsors\nWorking with your Board to make new introductions\nEngaging current donors to rally their community for your cause\n\nWhether you’re a grassroots organization seeking to build your donor community or an established nonprofit looking to revitalize your fundraising approach\, this Virtual Lab Session offers invaluable guidance and practical tips to help you unlock the full potential of your donor engagement efforts. \n 
URL:https://stratlabs.us/event/building-your-donor-community/
LOCATION:Zoom Link\, Strat Labs\, 1627 S Emerson\, Denver\, Colorado\, 80210
ATTACH;FMTTYPE=image/png:https://stratlabs.us/wp-content/uploads/2024/02/Philanthropy-1.png
END:VEVENT
END:VCALENDAR