BEGIN:VCALENDAR
VERSION:2.0
PRODID:-//Strat Labs - ECPv6.15.18//NONSGML v1.0//EN
CALSCALE:GREGORIAN
METHOD:PUBLISH
X-WR-CALNAME:Strat Labs
X-ORIGINAL-URL:https://stratlabs.us
X-WR-CALDESC:Events for Strat Labs
REFRESH-INTERVAL;VALUE=DURATION:PT1H
X-Robots-Tag:noindex
X-PUBLISHED-TTL:PT1H
BEGIN:VTIMEZONE
TZID:America/Denver
BEGIN:DAYLIGHT
TZOFFSETFROM:-0700
TZOFFSETTO:-0600
TZNAME:MDT
DTSTART:20230312T090000
END:DAYLIGHT
BEGIN:STANDARD
TZOFFSETFROM:-0600
TZOFFSETTO:-0700
TZNAME:MST
DTSTART:20231105T080000
END:STANDARD
BEGIN:DAYLIGHT
TZOFFSETFROM:-0700
TZOFFSETTO:-0600
TZNAME:MDT
DTSTART:20240310T090000
END:DAYLIGHT
BEGIN:STANDARD
TZOFFSETFROM:-0600
TZOFFSETTO:-0700
TZNAME:MST
DTSTART:20241103T080000
END:STANDARD
BEGIN:DAYLIGHT
TZOFFSETFROM:-0700
TZOFFSETTO:-0600
TZNAME:MDT
DTSTART:20250309T090000
END:DAYLIGHT
BEGIN:STANDARD
TZOFFSETFROM:-0600
TZOFFSETTO:-0700
TZNAME:MST
DTSTART:20251102T080000
END:STANDARD
END:VTIMEZONE
BEGIN:VEVENT
DTSTART;TZID=America/Denver:20240626T023000
DTEND;TZID=America/Denver:20240626T033000
DTSTAMP:20260420T104502
CREATED:20240522T155133Z
LAST-MODIFIED:20241211T200150Z
UID:10000015-1719369000-1719372600@stratlabs.us
SUMMARY:Defining Impact Metrics: Transparency in CSR and ESG
DESCRIPTION:Measuring the impact of your corporate social responsibility (CSR) initiatives is critical for building a strategy that reaches your target audience and showcasing your company’s positive influence. No matter what phase of growth your business is in\, demonstrating this multidimensional impact on the environment and/or society will help you build credibility in the marketplace. While the focus is important\, consumers and businesses are looking for brands that impact more than just one aspect of sustainability and/or CSR. \nJoin us to learn our step-by-step recommendations to achieving transparency\, trust\, and loyalty through your sustainability and CSR initiatives. We’ll start from the initial step of prioritizing your impact according to your business’s unique needs and then share how to eventually simplify your impact narrative by showcasing key metrics and compelling examples. \nIn this FREE Virtual Lab Session\, attendees will learn how to: \n\nPrioritize the impact you want your company to have\nSet metrics to measure the growth of that impact\nSimplify and communicate your impact to key stakeholders and/or consumers
URL:https://stratlabs.us/event/defining-impact-metrics-transparency-in-csr-and-esg/
LOCATION:Zoom Webinar
ATTACH;FMTTYPE=image/png:https://stratlabs.us/wp-content/uploads/2024/05/Defining-Impact-Metrics-2.png
END:VEVENT
END:VCALENDAR